Package: scider Version: 1.6.0 Command: rm -rf scider.buildbin-libdir && mkdir scider.buildbin-libdir && /Users/biocbuild/BBS/utils/build-universal.sh scider_1.6.0.tar.gz /Library/Frameworks/R.framework/Resources/bin/R scider.buildbin-libdir StartedAt: 2025-10-14 14:42:56 -0400 (Tue, 14 Oct 2025) EndedAt: 2025-10-14 14:44:18 -0400 (Tue, 14 Oct 2025) EllapsedTime: 81.7 seconds RetCode: 0 Status: OK PackageFile: scider_1.6.0.tgz PackageFileSize: 2.952 MiB