Package: schex Version: 1.22.0 Command: E:\biocbuild\bbs-3.21-bioc\R\bin\R.exe CMD INSTALL schex StartedAt: 2025-08-14 16:15:39 -0400 (Thu, 14 Aug 2025) EndedAt: 2025-08-14 16:16:17 -0400 (Thu, 14 Aug 2025) EllapsedTime: 37.6 seconds RetCode: 0 Status: OK