Package: schex Version: 1.22.0 Command: rm -rf schex.buildbin-libdir && mkdir schex.buildbin-libdir && E:\biocbuild\bbs-3.21-bioc\R\bin\R.exe CMD INSTALL --build --library=schex.buildbin-libdir schex_1.22.0.tar.gz StartedAt: 2025-08-15 10:14:06 -0400 (Fri, 15 Aug 2025) EndedAt: 2025-08-15 10:14:39 -0400 (Fri, 15 Aug 2025) EllapsedTime: 32.4 seconds RetCode: 0 Status: OK PackageFile: schex_1.22.0.zip PackageFileSize: 1.604 MiB