Package: schex Version: 1.22.0 Command: /home/biocbuild/bbs-3.21-bioc/R/bin/R CMD build --keep-empty-dirs --no-resave-data schex StartedAt: 2025-10-15 19:44:00 -0400 (Wed, 15 Oct 2025) EndedAt: 2025-10-15 19:45:31 -0400 (Wed, 15 Oct 2025) EllapsedTime: 91.1 seconds RetCode: 0 Status: OK PackageFile: schex_1.22.0.tar.gz PackageFileSize: 3.232 MiB