Package: schex Version: 1.22.0 Command: /Library/Frameworks/R.framework/Resources/bin/R CMD INSTALL schex StartedAt: 2025-10-13 15:41:44 -0400 (Mon, 13 Oct 2025) EndedAt: 2025-10-13 15:42:41 -0400 (Mon, 13 Oct 2025) EllapsedTime: 56.9 seconds RetCode: 0 Status: OK