Package: schex Version: 1.22.0 Command: /home/biocbuild/R/R/bin/R CMD check --install=check:schex.install-out.txt --library=/home/biocbuild/R/R/site-library --no-vignettes --timings schex_1.22.0.tar.gz StartedAt: 2025-10-14 13:54:15 -0000 (Tue, 14 Oct 2025) EndedAt: 2025-10-14 14:05:27 -0000 (Tue, 14 Oct 2025) EllapsedTime: 671.9 seconds RetCode: 0 Status: OK CheckDir: schex.Rcheck Warnings: 0