Package: schex Version: 1.22.0 Command: /home/biocbuild/R/R/bin/R CMD build --keep-empty-dirs --no-resave-data schex StartedAt: 2025-10-14 04:26:37 -0000 (Tue, 14 Oct 2025) EndedAt: 2025-10-14 04:29:07 -0000 (Tue, 14 Oct 2025) EllapsedTime: 149.1 seconds RetCode: 0 Status: OK PackageFile: schex_1.22.0.tar.gz PackageFileSize: 3.263 MiB