Package: schex Version: 1.22.0 Command: /Library/Frameworks/R.framework/Resources/bin/R CMD build --keep-empty-dirs --no-resave-data schex StartedAt: 2025-04-21 17:34:00 -0400 (Mon, 21 Apr 2025) EndedAt: 2025-04-21 17:34:45 -0400 (Mon, 21 Apr 2025) EllapsedTime: 44.5 seconds RetCode: 0 Status: OK PackageFile: schex_1.22.0.tar.gz PackageFileSize: 3.703 MiB