Package: scds Version: 1.24.0 Command: /home/biocbuild/bbs-3.21-bioc/R/bin/R CMD INSTALL scds StartedAt: 2025-10-15 15:18:05 -0400 (Wed, 15 Oct 2025) EndedAt: 2025-10-15 15:18:29 -0400 (Wed, 15 Oct 2025) EllapsedTime: 23.4 seconds RetCode: 0 Status: OK