Package: scds Version: 1.24.0 Command: /home/biocbuild/R/R/bin/R CMD INSTALL scds StartedAt: 2025-10-13 20:31:52 -0000 (Mon, 13 Oct 2025) EndedAt: 2025-10-13 20:32:27 -0000 (Mon, 13 Oct 2025) EllapsedTime: 34.5 seconds RetCode: 0 Status: OK