Package: scds Version: 1.24.0 Command: /Library/Frameworks/R.framework/Resources/bin/R CMD INSTALL scds StartedAt: 2025-04-21 15:12:00 -0400 (Mon, 21 Apr 2025) EndedAt: 2025-04-21 15:12:11 -0400 (Mon, 21 Apr 2025) EllapsedTime: 10.5 seconds RetCode: 0 Status: OK