Package: scds Version: 1.24.0 Command: /Library/Frameworks/R.framework/Resources/bin/R CMD INSTALL scds StartedAt: 2025-10-13 16:10:56 -0400 (Mon, 13 Oct 2025) EndedAt: 2025-10-13 16:11:25 -0400 (Mon, 13 Oct 2025) EllapsedTime: 29.0 seconds RetCode: 0 Status: OK