Package: scds Version: 1.24.0 Command: /Library/Frameworks/R.framework/Resources/bin/R CMD build --keep-empty-dirs --no-resave-data scds StartedAt: 2025-10-14 08:41:21 -0400 (Tue, 14 Oct 2025) EndedAt: 2025-10-14 08:42:34 -0400 (Tue, 14 Oct 2025) EllapsedTime: 72.9 seconds RetCode: 0 Status: OK PackageFile: scds_1.24.0.tar.gz PackageFileSize: 1.388 MiB