Package: scds Version: 1.24.0 Command: rm -rf scds.buildbin-libdir && mkdir scds.buildbin-libdir && /Users/biocbuild/BBS/utils/build-universal.sh scds_1.24.0.tar.gz /Library/Frameworks/R.framework/Resources/bin/R scds.buildbin-libdir StartedAt: 2025-10-15 20:21:48 -0400 (Wed, 15 Oct 2025) EndedAt: 2025-10-15 20:22:19 -0400 (Wed, 15 Oct 2025) EllapsedTime: 31.8 seconds RetCode: 0 Status: OK PackageFile: scds_1.24.0.tgz PackageFileSize: 1.418 MiB