Package: scatterHatch Version: 1.14.0 Command: /home/biocbuild/R/R/bin/R CMD check --install=check:scatterHatch.install-out.txt --library=/home/biocbuild/R/R/site-library --no-vignettes --timings scatterHatch_1.14.0.tar.gz StartedAt: 2025-09-30 14:13:20 -0000 (Tue, 30 Sep 2025) EndedAt: 2025-09-30 14:15:07 -0000 (Tue, 30 Sep 2025) EllapsedTime: 107.2 seconds RetCode: 0 Status: OK CheckDir: scatterHatch.Rcheck Warnings: 0