Package: scater Version: 1.36.0 Command: /Library/Frameworks/R.framework/Resources/bin/R CMD INSTALL scater StartedAt: 2025-04-21 15:44:10 -0400 (Mon, 21 Apr 2025) EndedAt: 2025-04-21 15:44:50 -0400 (Mon, 21 Apr 2025) EllapsedTime: 39.4 seconds RetCode: 0 Status: OK