Package: scanMiRApp Version: 1.14.0 Command: /Library/Frameworks/R.framework/Resources/bin/R CMD INSTALL scanMiRApp StartedAt: 2025-09-29 18:12:14 -0400 (Mon, 29 Sep 2025) EndedAt: 2025-09-29 18:13:09 -0400 (Mon, 29 Sep 2025) EllapsedTime: 54.5 seconds RetCode: 0 Status: OK