Package: scTensor Version: 2.18.2 Command: E:\biocbuild\bbs-3.21-bioc\R\bin\R.exe CMD INSTALL scTensor StartedAt: 2025-08-14 16:56:56 -0400 (Thu, 14 Aug 2025) EndedAt: 2025-08-14 16:58:06 -0400 (Thu, 14 Aug 2025) EllapsedTime: 70.6 seconds RetCode: 0 Status: OK