Package: scTensor Version: 2.18.2 Command: chmod a+r scTensor -R && E:\biocbuild\bbs-3.21-bioc\R\bin\R.exe CMD build --keep-empty-dirs --no-resave-data scTensor StartedAt: 2025-08-14 22:08:03 -0400 (Thu, 14 Aug 2025) EndedAt: 2025-08-14 22:11:00 -0400 (Thu, 14 Aug 2025) EllapsedTime: 177.3 seconds RetCode: 0 Status: OK PackageFile: scTensor_2.18.2.tar.gz PackageFileSize: 10.26 MiB