Package: scTensor Version: 2.18.2 Command: rm -rf scTensor.buildbin-libdir && mkdir scTensor.buildbin-libdir && E:\biocbuild\bbs-3.21-bioc\R\bin\R.exe CMD INSTALL --build --library=scTensor.buildbin-libdir scTensor_2.18.2.tar.gz StartedAt: 2025-08-15 10:16:04 -0400 (Fri, 15 Aug 2025) EndedAt: 2025-08-15 10:17:34 -0400 (Fri, 15 Aug 2025) EllapsedTime: 89.9 seconds RetCode: 0 Status: OK PackageFile: scTensor_2.18.2.zip PackageFileSize: 5.662 MiB