Package: scTensor Version: 2.18.2 Command: /Library/Frameworks/R.framework/Resources/bin/R CMD check --install=check:scTensor.install-out.txt --library=/Library/Frameworks/R.framework/Resources/library --no-vignettes --timings scTensor_2.18.2.tar.gz StartedAt: 2025-10-15 11:59:18 -0400 (Wed, 15 Oct 2025) EndedAt: 2025-10-15 12:06:27 -0400 (Wed, 15 Oct 2025) EllapsedTime: 429.1 seconds RetCode: 0 Status: WARNINGS CheckDir: scTensor.Rcheck Warnings: 1