Package: scTGIF Version: 1.22.0 Command: rm -rf scTGIF.buildbin-libdir && mkdir scTGIF.buildbin-libdir && /Users/biocbuild/BBS/utils/build-universal.sh scTGIF_1.22.0.tar.gz /Library/Frameworks/R.framework/Resources/bin/R scTGIF.buildbin-libdir StartedAt: 2025-10-14 14:44:54 -0400 (Tue, 14 Oct 2025) EndedAt: 2025-10-14 14:46:27 -0400 (Tue, 14 Oct 2025) EllapsedTime: 93.1 seconds RetCode: 0 Status: OK PackageFile: scTGIF_1.22.0.tgz PackageFileSize: 2.031 MiB