Package: scRepertoire Version: 2.4.0 Command: /home/biocbuild/R/R/bin/R CMD INSTALL scRepertoire StartedAt: 2025-10-13 20:35:58 -0000 (Mon, 13 Oct 2025) EndedAt: 2025-10-13 20:37:32 -0000 (Mon, 13 Oct 2025) EllapsedTime: 94.8 seconds RetCode: 0 Status: OK