Package: scRepertoire Version: 2.4.0 Command: /home/biocbuild/R/R/bin/R CMD check --install=check:scRepertoire.install-out.txt --library=/home/biocbuild/R/R/site-library --no-vignettes --timings scRepertoire_2.4.0.tar.gz StartedAt: 2025-10-14 14:02:14 -0000 (Tue, 14 Oct 2025) EndedAt: 2025-10-14 14:15:56 -0000 (Tue, 14 Oct 2025) EllapsedTime: 822.2 seconds RetCode: 0 Status: OK CheckDir: scRepertoire.Rcheck Warnings: 0