Package: scRepertoire Version: 2.4.0 Command: /Library/Frameworks/R.framework/Resources/bin/R CMD check --install=check:scRepertoire.install-out.txt --library=/Library/Frameworks/R.framework/Resources/library --no-vignettes --timings scRepertoire_2.4.0.tar.gz StartedAt: 2025-04-21 21:34:17 -0400 (Mon, 21 Apr 2025) EndedAt: 2025-04-21 21:37:34 -0400 (Mon, 21 Apr 2025) EllapsedTime: 197.4 seconds RetCode: 0 Status: OK CheckDir: scRepertoire.Rcheck Warnings: 0