Package: scRecover Version: 1.24.0 Command: E:\biocbuild\bbs-3.21-bioc\R\bin\R.exe CMD INSTALL scRecover StartedAt: 2025-08-14 15:26:55 -0400 (Thu, 14 Aug 2025) EndedAt: 2025-08-14 15:27:22 -0400 (Thu, 14 Aug 2025) EllapsedTime: 27.0 seconds RetCode: 0 Status: OK