Package: scRecover Version: 1.24.0 Command: rm -rf scRecover.buildbin-libdir && mkdir scRecover.buildbin-libdir && E:\biocbuild\bbs-3.21-bioc\R\bin\R.exe CMD INSTALL --build --library=scRecover.buildbin-libdir scRecover_1.24.0.tar.gz StartedAt: 2025-08-15 10:15:42 -0400 (Fri, 15 Aug 2025) EndedAt: 2025-08-15 10:16:02 -0400 (Fri, 15 Aug 2025) EllapsedTime: 20.0 seconds RetCode: 0 Status: OK PackageFile: scRecover_1.24.0.zip PackageFileSize: 1.17 MiB