Package: scRecover Version: 1.24.0 Command: /Library/Frameworks/R.framework/Resources/bin/R CMD build --keep-empty-dirs --no-resave-data scRecover StartedAt: 2025-09-29 22:28:12 -0400 (Mon, 29 Sep 2025) EndedAt: 2025-09-29 22:32:36 -0400 (Mon, 29 Sep 2025) EllapsedTime: 264.5 seconds RetCode: 0 Status: OK PackageFile: scRecover_1.24.0.tar.gz PackageFileSize: 1.713 MiB