Package: scReClassify Version: 1.14.0 Command: /home/biocbuild/bbs-3.21-bioc/R/bin/R CMD check --install=check:scReClassify.install-out.txt --library=/home/biocbuild/bbs-3.21-bioc/R/site-library --timings scReClassify_1.14.0.tar.gz StartedAt: 2025-10-16 03:24:47 -0400 (Thu, 16 Oct 2025) EndedAt: 2025-10-16 03:29:53 -0400 (Thu, 16 Oct 2025) EllapsedTime: 306.3 seconds RetCode: 0 Status: OK CheckDir: scReClassify.Rcheck Warnings: 0