Package: scReClassify Version: 1.14.0 Command: /home/biocbuild/bbs-3.21-bioc/R/bin/R CMD build --keep-empty-dirs --no-resave-data scReClassify StartedAt: 2025-10-15 19:46:40 -0400 (Wed, 15 Oct 2025) EndedAt: 2025-10-15 19:49:15 -0400 (Wed, 15 Oct 2025) EllapsedTime: 154.1 seconds RetCode: 0 Status: OK PackageFile: scReClassify_1.14.0.tar.gz PackageFileSize: 2.587 MiB