Package: scReClassify Version: 1.14.0 Command: /Library/Frameworks/R.framework/Resources/bin/R CMD build --keep-empty-dirs --no-resave-data scReClassify StartedAt: 2025-10-13 22:28:06 -0400 (Mon, 13 Oct 2025) EndedAt: 2025-10-13 22:33:16 -0400 (Mon, 13 Oct 2025) EllapsedTime: 310.2 seconds RetCode: 0 Status: OK PackageFile: scReClassify_1.14.0.tar.gz PackageFileSize: 2.59 MiB