Package: scReClassify Version: 1.14.0 Command: /home/biocbuild/R/R/bin/R CMD build --keep-empty-dirs --no-resave-data scReClassify StartedAt: 2025-10-14 04:31:17 -0000 (Tue, 14 Oct 2025) EndedAt: 2025-10-14 04:34:43 -0000 (Tue, 14 Oct 2025) EllapsedTime: 206.1 seconds RetCode: 0 Status: OK PackageFile: scReClassify_1.14.0.tar.gz PackageFileSize: 2.634 MiB