Package: scReClassify Version: 1.14.0 Command: /Library/Frameworks/R.framework/Resources/bin/R CMD INSTALL scReClassify StartedAt: 2025-10-13 18:38:21 -0400 (Mon, 13 Oct 2025) EndedAt: 2025-10-13 18:38:48 -0400 (Mon, 13 Oct 2025) EllapsedTime: 26.5 seconds RetCode: 0 Status: OK