Package: scPCA Version: 1.22.0 Command: /Library/Frameworks/R.framework/Resources/bin/R CMD INSTALL scPCA StartedAt: 2025-10-13 18:09:00 -0400 (Mon, 13 Oct 2025) EndedAt: 2025-10-13 18:09:31 -0400 (Mon, 13 Oct 2025) EllapsedTime: 31.0 seconds RetCode: 0 Status: OK