Package: scPCA Version: 1.22.0 Command: /Library/Frameworks/R.framework/Resources/bin/R CMD build --keep-empty-dirs --no-resave-data scPCA StartedAt: 2025-10-14 08:53:27 -0400 (Tue, 14 Oct 2025) EndedAt: 2025-10-14 08:59:25 -0400 (Tue, 14 Oct 2025) EllapsedTime: 357.5 seconds RetCode: 0 Status: OK PackageFile: scPCA_1.22.0.tar.gz PackageFileSize: 2.056 MiB