Package: scPCA Version: 1.22.0 Command: rm -rf scPCA.buildbin-libdir && mkdir scPCA.buildbin-libdir && /Users/biocbuild/BBS/utils/build-universal.sh scPCA_1.22.0.tar.gz /Library/Frameworks/R.framework/Resources/bin/R scPCA.buildbin-libdir StartedAt: 2025-10-15 20:24:31 -0400 (Wed, 15 Oct 2025) EndedAt: 2025-10-15 20:24:59 -0400 (Wed, 15 Oct 2025) EllapsedTime: 27.2 seconds RetCode: 0 Status: OK PackageFile: scPCA_1.22.0.tgz PackageFileSize: 2.087 MiB