Package: scDotPlot Version: 1.2.1 Command: /Library/Frameworks/R.framework/Resources/bin/R CMD check --install=check:scDotPlot.install-out.txt --library=/Library/Frameworks/R.framework/Resources/library --no-vignettes --timings scDotPlot_1.2.1.tar.gz StartedAt: 2025-10-14 09:52:14 -0400 (Tue, 14 Oct 2025) EndedAt: 2025-10-14 10:02:23 -0400 (Tue, 14 Oct 2025) EllapsedTime: 608.8 seconds RetCode: 0 Status: OK CheckDir: scDotPlot.Rcheck Warnings: 0