Package: scDotPlot Version: 1.2.1 Command: /Library/Frameworks/R.framework/Resources/bin/R CMD build --keep-empty-dirs --no-resave-data scDotPlot StartedAt: 2025-10-13 22:20:09 -0400 (Mon, 13 Oct 2025) EndedAt: 2025-10-13 22:24:11 -0400 (Mon, 13 Oct 2025) EllapsedTime: 241.8 seconds RetCode: 0 Status: OK PackageFile: scDotPlot_1.2.1.tar.gz PackageFileSize: 1.971 MiB