Package: scDotPlot Version: 1.2.1 Command: /home/biocbuild/R/R/bin/R CMD INSTALL scDotPlot StartedAt: 2025-10-13 21:14:26 -0000 (Mon, 13 Oct 2025) EndedAt: 2025-10-13 21:15:24 -0000 (Mon, 13 Oct 2025) EllapsedTime: 58.1 seconds RetCode: 0 Status: OK