Package: scDotPlot Version: 1.2.1 Command: /home/biocbuild/R/R/bin/R CMD check --install=check:scDotPlot.install-out.txt --library=/home/biocbuild/R/R/site-library --no-vignettes --timings scDotPlot_1.2.1.tar.gz StartedAt: 2025-10-14 13:51:27 -0000 (Tue, 14 Oct 2025) EndedAt: 2025-10-14 13:58:25 -0000 (Tue, 14 Oct 2025) EllapsedTime: 418.5 seconds RetCode: 0 Status: OK CheckDir: scDotPlot.Rcheck Warnings: 0