Package: scDotPlot Version: 1.2.1 Command: /home/biocbuild/R/R/bin/R CMD build --keep-empty-dirs --no-resave-data scDotPlot StartedAt: 2025-10-14 04:24:15 -0000 (Tue, 14 Oct 2025) EndedAt: 2025-10-14 04:26:37 -0000 (Tue, 14 Oct 2025) EllapsedTime: 142.1 seconds RetCode: 0 Status: OK PackageFile: scDotPlot_1.2.1.tar.gz PackageFileSize: 1.897 MiB