Package: scDblFinder Version: 1.22.0 Command: E:\biocbuild\bbs-3.21-bioc\R\bin\R.exe CMD check --no-multiarch --install=check:scDblFinder.install-out.txt --library=E:\biocbuild\bbs-3.21-bioc\R\library --no-vignettes --timings scDblFinder_1.22.0.tar.gz StartedAt: 2025-08-15 06:32:40 -0400 (Fri, 15 Aug 2025) EndedAt: 2025-08-15 06:32:46 -0400 (Fri, 15 Aug 2025) EllapsedTime: 6.7 seconds RetCode: 1 Status: ERROR CheckDir: scDblFinder.Rcheck Warnings: NA