Package: scDblFinder Version: 1.22.0 Command: /home/biocbuild/bbs-3.21-bioc/R/bin/R CMD build --keep-empty-dirs --no-resave-data scDblFinder StartedAt: 2025-10-15 19:41:33 -0400 (Wed, 15 Oct 2025) EndedAt: 2025-10-15 19:44:09 -0400 (Wed, 15 Oct 2025) EllapsedTime: 156.2 seconds RetCode: 0 Status: OK PackageFile: scDblFinder_1.22.0.tar.gz PackageFileSize: 2.144 MiB