Package: scDblFinder Version: 1.22.0 Command: /Library/Frameworks/R.framework/Resources/bin/R CMD INSTALL scDblFinder StartedAt: 2025-10-13 16:43:52 -0400 (Mon, 13 Oct 2025) EndedAt: 2025-10-13 16:45:22 -0400 (Mon, 13 Oct 2025) EllapsedTime: 89.8 seconds RetCode: 0 Status: OK