Package: scDblFinder Version: 1.22.0 Command: /Library/Frameworks/R.framework/Resources/bin/R CMD check --install=check:scDblFinder.install-out.txt --library=/Library/Frameworks/R.framework/Resources/library --no-vignettes --timings scDblFinder_1.22.0.tar.gz StartedAt: 2025-10-14 09:49:56 -0400 (Tue, 14 Oct 2025) EndedAt: 2025-10-14 10:02:15 -0400 (Tue, 14 Oct 2025) EllapsedTime: 738.9 seconds RetCode: 0 Status: OK CheckDir: scDblFinder.Rcheck Warnings: 0