Package: scDataviz Version: 1.18.0 Command: /home/biocbuild/R/R/bin/R CMD check --install=check:scDataviz.install-out.txt --library=/home/biocbuild/R/R/site-library --no-vignettes --timings scDataviz_1.18.0.tar.gz StartedAt: 2025-10-14 13:49:32 -0000 (Tue, 14 Oct 2025) EndedAt: 2025-10-14 13:56:02 -0000 (Tue, 14 Oct 2025) EllapsedTime: 390.4 seconds RetCode: 0 Status: OK CheckDir: scDataviz.Rcheck Warnings: 0