Package: scDD Version: 1.32.0 Command: /Library/Frameworks/R.framework/Resources/bin/R CMD check --install=check:scDD.install-out.txt --library=/Library/Frameworks/R.framework/Resources/library --no-vignettes --timings scDD_1.32.0.tar.gz StartedAt: 2025-09-30 09:39:22 -0400 (Tue, 30 Sep 2025) EndedAt: 2025-09-30 09:49:38 -0400 (Tue, 30 Sep 2025) EllapsedTime: 616.1 seconds RetCode: 0 Status: OK CheckDir: scDD.Rcheck Warnings: 0