Package: scDD Version: 1.32.0 Command: /Library/Frameworks/R.framework/Resources/bin/R CMD build --keep-empty-dirs --no-resave-data scDD StartedAt: 2025-09-25 22:19:21 -0400 (Thu, 25 Sep 2025) EndedAt: 2025-09-25 22:24:16 -0400 (Thu, 25 Sep 2025) EllapsedTime: 294.8 seconds RetCode: 0 Status: OK PackageFile: scDD_1.32.0.tar.gz PackageFileSize: 846.5 KiB