Package: scDD Version: 1.32.0 Command: rm -rf scDD.buildbin-libdir && mkdir scDD.buildbin-libdir && /Users/biocbuild/BBS/utils/build-universal.sh scDD_1.32.0.tar.gz /Library/Frameworks/R.framework/Resources/bin/R scDD.buildbin-libdir StartedAt: 2025-09-26 15:52:43 -0400 (Fri, 26 Sep 2025) EndedAt: 2025-09-26 16:02:41 -0400 (Fri, 26 Sep 2025) EllapsedTime: 597.6 seconds RetCode: 0 Status: OK PackageFile: scDD_1.32.0.tgz PackageFileSize: 1 MiB