Package: scDD Version: 1.32.0 Command: /Library/Frameworks/R.framework/Resources/bin/R CMD INSTALL scDD StartedAt: 2025-04-21 15:46:29 -0400 (Mon, 21 Apr 2025) EndedAt: 2025-04-21 15:47:17 -0400 (Mon, 21 Apr 2025) EllapsedTime: 47.1 seconds RetCode: 0 Status: OK